BEGIN:VCALENDAR
VERSION:2.0
CALSCALE:GREGORIAN
PRODID:-//Diputació de Barcelona//DibaCMS//EN
BEGIN:VEVENT
UID:2885
DTSTAMP:20260422T101008
DTSTART:20160821T000000
DTEND:20160821T000000
SUMMARY:Festa del Batre
LOCATION:
METHOD:PUBLISH
X-WR-CALNAME:calldetenes@calldetenes.cat
X-WR-TIMEZONE:Europe/Madrid
DESCRIPTION: Properament, més informació.     
URI:https://www.calldetenes.cat/lactualitat/agenda/2885-festa-del-batre.html
CLASS:PUBLIC
END:VEVENT
END:VCALENDAR
