BEGIN:VCALENDAR
VERSION:2.0
CALSCALE:GREGORIAN
PRODID:-//Diputació de Barcelona//DibaCMS//EN
BEGIN:VEVENT
UID:2884
DTSTAMP:20260422T085702
DTSTART:20160805T000000
DTEND:20160902T000000
SUMMARY:Vacances del Punt Jove de Calldetenes
LOCATION:
METHOD:PUBLISH
X-WR-CALNAME:calldetenes@calldetenes.cat
X-WR-TIMEZONE:Europe/Madrid
DESCRIPTION: Els serveis del Punt Jove de Calldetenes estaran tancats per vacances des del 8 d'agost fins el 2 de setembre (ambdós inclosos)    
URI:https://www.calldetenes.cat/lactualitat/agenda/vacances-del-punt-jove-de-calldetenes.html
CLASS:PUBLIC
END:VEVENT
END:VCALENDAR
