BEGIN:VCALENDAR
VERSION:2.0
CALSCALE:GREGORIAN
PRODID:-//Diputació de Barcelona//DibaCMS//EN
BEGIN:VEVENT
UID:2883
DTSTAMP:20260422T103944
DTSTART:20160721T000000
DTEND:20161001T000000
SUMMARY:3er Concurs de melmelades de la Fira de la Mercè de Calldetenes
LOCATION:
METHOD:PUBLISH
X-WR-CALNAME:calldetenes@calldetenes.cat
X-WR-TIMEZONE:Europe/Madrid
DESCRIPTION: Es recolliran, tastaran i premiaran les melmelades el mateix dia de la Fira de la Mercè, l'1 d'octubre. Cal entregar les melmelades participants a les 12 del migdia a l'escenari de la plaça Onze de Setembre.    
URI:https://www.calldetenes.cat/lactualitat/agenda/3er-concurs-de-melmelades-de-la-fira-de-la-merce-de-calldetenes.html
CLASS:PUBLIC
END:VEVENT
END:VCALENDAR
