BEGIN:VCALENDAR
VERSION:2.0
CALSCALE:GREGORIAN
PRODID:-//Diputació de Barcelona//DibaCMS//EN
BEGIN:VEVENT
UID:2882
DTSTAMP:20260422T115143
DTSTART:20160719T000000
DTEND:20160804T000000
SUMMARY:Taller de carretons al Punt Jove de Calldetenes
LOCATION:
METHOD:PUBLISH
X-WR-CALNAME:calldetenes@calldetenes.cat
X-WR-TIMEZONE:Europe/Madrid
DESCRIPTION: La segona setmana de setembre es farà al Punt Jove de Calldetenes un taller de carretons per a poder participar en la baixada de la Festa Major.  Per a inscriure's al taller cal ser un equip de 4 persones com a màxim. Les inscripcions al taller es limitaran a 4 equips.  Podeu demanar informació i entregar les inscripcions al Punt Jove abans del 4 d'agost totes les tardes, de 4 a 7 (dilluns 25 tancat).              
URI:https://www.calldetenes.cat/lactualitat/agenda/taller-de-carretons-al-punt-jove-de-calldetenes.html
CLASS:PUBLIC
END:VEVENT
END:VCALENDAR
