BEGIN:VCALENDAR
VERSION:2.0
CALSCALE:GREGORIAN
PRODID:-//Diputació de Barcelona//DibaCMS//EN
BEGIN:VEVENT
UID:2881
DTSTAMP:20260422T131249
DTSTART:20160718T000000
DTEND:20160724T000000
SUMMARY:Festes del barri de Darrere els Horts
LOCATION:
METHOD:PUBLISH
X-WR-CALNAME:calldetenes@calldetenes.cat
X-WR-TIMEZONE:Europe/Madrid
DESCRIPTION: 
URI:https://www.calldetenes.cat/lactualitat/agenda/2881-festes-del-barri-de-darrere-els-horts.html
CLASS:PUBLIC
END:VEVENT
END:VCALENDAR
