BEGIN:VCALENDAR
VERSION:2.0
CALSCALE:GREGORIAN
PRODID:-//Diputació de Barcelona//DibaCMS//EN
BEGIN:VEVENT
UID:2880
DTSTAMP:20260422T080923
DTSTART:20161001T000000
DTEND:20161001T000000
SUMMARY:5a Fira de la Mercè de Calldetenes, la fira del comerç i la bona teca
LOCATION:
METHOD:PUBLISH
X-WR-CALNAME:calldetenes@calldetenes.cat
X-WR-TIMEZONE:Europe/Madrid
DESCRIPTION: 
URI:https://www.calldetenes.cat/lactualitat/agenda/5a-fira-de-la-merce-de-calldetenes-la-fira-del-comerc-i-la-bona-teca.html
CLASS:PUBLIC
END:VEVENT
END:VCALENDAR
