BEGIN:VCALENDAR
VERSION:2.0
CALSCALE:GREGORIAN
PRODID:-//Diputació de Barcelona//DibaCMS//EN
BEGIN:VEVENT
UID:2879
DTSTAMP:20260422T103831
DTSTART:20160615T000000
DTEND:20160615T000000
SUMMARY:Taula rodona "Experiències als camps de refugiats de Grècia"
LOCATION:
METHOD:PUBLISH
X-WR-CALNAME:calldetenes@calldetenes.cat
X-WR-TIMEZONE:Europe/Madrid
DESCRIPTION:   Divendres 17 de juny a les 19.30h al vestíbul de l’ajuntament de Calldetenes  Organitza: La Pera  
URI:https://www.calldetenes.cat/lactualitat/agenda/taula-rodona-experiencies-als-camps-de-refugiats-de-grecia.html
CLASS:PUBLIC
END:VEVENT
END:VCALENDAR
