BEGIN:VCALENDAR
VERSION:2.0
CALSCALE:GREGORIAN
PRODID:-//Diputació de Barcelona//DibaCMS//EN
BEGIN:VEVENT
UID:2878
DTSTAMP:20260422T173210
DTSTART:20160714T000000
DTEND:20160714T000000
SUMMARY:Sortida jove al parc aquàtic
LOCATION:
METHOD:PUBLISH
X-WR-CALNAME:calldetenes@calldetenes.cat
X-WR-TIMEZONE:Europe/Madrid
DESCRIPTION:   Dijous 14 de juliol  Inscripcions fins el 30 de juny al Punt Jove de Calldetenes   
URI:https://www.calldetenes.cat/lactualitat/agenda/sortida-jove-al-parc-aquatic.html
CLASS:PUBLIC
END:VEVENT
END:VCALENDAR
