BEGIN:VCALENDAR
VERSION:2.0
CALSCALE:GREGORIAN
PRODID:-//Diputació de Barcelona//DibaCMS//EN
BEGIN:VEVENT
UID:2877
DTSTAMP:20260422T221009
DTSTART:20160621T000000
DTEND:20160622T000000
SUMMARY:Exposició “ Tu tens la paraula”
LOCATION:
METHOD:PUBLISH
X-WR-CALNAME:calldetenes@calldetenes.cat
X-WR-TIMEZONE:Europe/Madrid
DESCRIPTION:   Dins els actes de la Setmana de l’Energia  Dimarts 21 i dimecres 22 de juny de 9h a 14.30h  Al vestíbul de l’ajuntament de Calldetenes  Exposició que mostra els elements quotidians per a l’estalvi energètic: la cuina, el bany, el transport, l’oficina...   
URI:https://www.calldetenes.cat/lactualitat/agenda/exposicio--tu-tens-la-paraula.html
CLASS:PUBLIC
END:VEVENT
END:VCALENDAR
