BEGIN:VCALENDAR
VERSION:2.0
CALSCALE:GREGORIAN
PRODID:-//Diputació de Barcelona//DibaCMS//EN
BEGIN:VEVENT
UID:2876
DTSTAMP:20260422T132000
DTSTART:20160619T000000
DTEND:20160619T000000
SUMMARY:Exposició “ La biomassa forestal i agrícola a Catalunya”
LOCATION:
METHOD:PUBLISH
X-WR-CALNAME:calldetenes@calldetenes.cat
X-WR-TIMEZONE:Europe/Madrid
DESCRIPTION:   Dins els actes de la Setmana de l’Energia  Diumenge 19 de juny de 9h a 14h  Dilluns 20 de juny de 9h a 14.30h i de 15.30h a 17.30h  Al vestíbul de l’ajuntament de Calldetenes  Exposició que explica què és i quins tipus de biomassa forestal i agrícola existeixen per a l’aprofitament energètic. A més, mostra l’evolució de les instal·lacions de biomassa al nostre territori i exemples reals d’instal·lacions catalanes. 
URI:https://www.calldetenes.cat/lactualitat/agenda/exposicio--la-biomassa-forestal-i-agricola-a-catalunya.html
CLASS:PUBLIC
END:VEVENT
END:VCALENDAR
