BEGIN:VCALENDAR
VERSION:2.0
CALSCALE:GREGORIAN
PRODID:-//Diputació de Barcelona//DibaCMS//EN
BEGIN:VEVENT
UID:2875
DTSTAMP:20260422T142728
DTSTART:20160618T000000
DTEND:20160618T000000
SUMMARY:Caminada per la Costa Brava amb el CEC
LOCATION:
METHOD:PUBLISH
X-WR-CALNAME:calldetenes@calldetenes.cat
X-WR-TIMEZONE:Europe/Madrid
DESCRIPTION:   Dissabte 18 de juny  Punt de trobada: a les 7 del mati davant del local del CEC (aparcament del teatre de Calldetenes, plaça 11 de setembre).   Transport amb vehicles particulars.  Portar esmorzar i dinar. Activitat gratuïta.  Per a més informació: Club Excursionista Calldetenes cecalldetenes@gmail.com
URI:https://www.calldetenes.cat/lactualitat/agenda/caminada-per-la-costa-brava-amb-el-cec.html
CLASS:PUBLIC
END:VEVENT
END:VCALENDAR
