BEGIN:VCALENDAR
VERSION:2.0
CALSCALE:GREGORIAN
PRODID:-//Diputació de Barcelona//DibaCMS//EN
BEGIN:VEVENT
UID:2874
DTSTAMP:20260422T105943
DTSTART:20160602T000000
DTEND:20160728T000000
SUMMARY:Caminades a la fresca amb el CEC
LOCATION:
METHOD:PUBLISH
X-WR-CALNAME:calldetenes@calldetenes.cat
X-WR-TIMEZONE:Europe/Madrid
DESCRIPTION:   Passejades pels voltants del poble d’una durada aproximada d’una hora  Els dijous del 2 de juny al 28 de juliol  Sortida a les 20.15 h a la plaça Onze de Setembre  Organitza: Club Excursionista Calldetenes  
URI:https://www.calldetenes.cat/lactualitat/agenda/2874-caminades-a-la-fresca-amb-el-cec.html
CLASS:PUBLIC
END:VEVENT
END:VCALENDAR
