BEGIN:VCALENDAR
VERSION:2.0
CALSCALE:GREGORIAN
PRODID:-//Diputació de Barcelona//DibaCMS//EN
BEGIN:VEVENT
UID:2872
DTSTAMP:20260422T101055
DTSTART:20160530T000000
DTEND:20160623T000000
SUMMARY:Inscripcions al Casalet d'Estiu a l'Escola Bressol l'Esquitx
LOCATION:
METHOD:PUBLISH
X-WR-CALNAME:calldetenes@calldetenes.cat
X-WR-TIMEZONE:Europe/Madrid
DESCRIPTION:   Casalet de l’11 de juliol al 5 d’agost, per nens i nenes de 10 mesos a 3 anys.  Inscripcions fins el 23 de juny.  Reunió informativa: dilluns 13 de juny a les 8 del vespre al vestíbul de l’Ajuntament.  Més informació al cartell adjunt o a http://alquimiavic.blogspot.com.es    
URI:https://www.calldetenes.cat/lactualitat/agenda/inscripcions-al-casalet-destiu-a-lescola-bressol-lesquitx.html
CLASS:PUBLIC
END:VEVENT
END:VCALENDAR
