BEGIN:VCALENDAR
VERSION:2.0
CALSCALE:GREGORIAN
PRODID:-//Diputació de Barcelona//DibaCMS//EN
BEGIN:VEVENT
UID:2871
DTSTAMP:20260422T115332
DTSTART:20160530T000000
DTEND:20160612T000000
SUMMARY:Inscripcions als Tallers de cuina per a nens i nenes
LOCATION:
METHOD:PUBLISH
X-WR-CALNAME:calldetenes@calldetenes.cat
X-WR-TIMEZONE:Europe/Madrid
DESCRIPTION: Inscripcions als Tallers de cuina  Tallers del 4 al 8 de juliol, de 9h a 13h.   Inscripcions fins el 12 de juny.  Més informació al cartell adjunt o a l’Escola Sant marc. 
URI:https://www.calldetenes.cat/lactualitat/agenda/inscripcions-als-tallers-de-cuina-per-a-nens-i-nenes.html
CLASS:PUBLIC
END:VEVENT
END:VCALENDAR
