BEGIN:VCALENDAR
VERSION:2.0
CALSCALE:GREGORIAN
PRODID:-//Diputació de Barcelona//DibaCMS//EN
BEGIN:VEVENT
UID:2870
DTSTAMP:20260422T103823
DTSTART:20160603T000000
DTEND:20160603T000000
SUMMARY:Trobada Pla Local de Joventut: entitats
LOCATION:
METHOD:PUBLISH
X-WR-CALNAME:calldetenes@calldetenes.cat
X-WR-TIMEZONE:Europe/Madrid
DESCRIPTION: Trobada Pla Local de Joventut: entitats  Divendres 3 de juny al Punt Jove de Calldetenes  A les 7 de la tarda  El Pla Local de Joventut és l’eina que recull les activitats i línies de treball que es faran en temes de joventut al municipi als propers 4 anys. Per començar, us proposem unes trobades perquè els nois i noies de Calldetenes us pugueu expressar, per millorar Calldetenes entre tots i totes. 
URI:https://www.calldetenes.cat/lactualitat/agenda/trobada-pla-local-de-joventut-entitats.html
CLASS:PUBLIC
END:VEVENT
END:VCALENDAR
