BEGIN:VCALENDAR
VERSION:2.0
CALSCALE:GREGORIAN
PRODID:-//Diputació de Barcelona//DibaCMS//EN
BEGIN:VEVENT
UID:2869
DTSTAMP:20260422T121412
DTSTART:20160530T000000
DTEND:20160530T000000
SUMMARY:V Tarda de dones: conversem sobre el càncer de pit
LOCATION:
METHOD:PUBLISH
X-WR-CALNAME:calldetenes@calldetenes.cat
X-WR-TIMEZONE:Europe/Madrid
DESCRIPTION:  V Tarda de dones: conversem sobre el càncer de pit  Amb el Dia Internacional d’Acció per la Salut de les Dones  Dilluns 30 de maig a les 15.15h al Bar del teatre  Activitat gratuïta!  Inscripció prèvia    
URI:https://www.calldetenes.cat/lactualitat/agenda/v-tarda-de-dones-conversem-sobre-el-cancer-de-pit.html
CLASS:PUBLIC
END:VEVENT
END:VCALENDAR
