BEGIN:VCALENDAR
VERSION:2.0
CALSCALE:GREGORIAN
PRODID:-//Diputació de Barcelona//DibaCMS//EN
BEGIN:VEVENT
UID:2868
DTSTAMP:20260422T221416
DTSTART:20160606T000000
DTEND:20160620T000000
SUMMARY:Taller: Informàtica bàsica per a la recerca de feina
LOCATION:
METHOD:PUBLISH
X-WR-CALNAME:calldetenes@calldetenes.cat
X-WR-TIMEZONE:Europe/Madrid
DESCRIPTION: Taller: Informàtica bàsica per a la recerca de feina  Dilluns 6 i 20 de juny de 18h a 20h  Més informació i inscripcions al Punt Jove de Calldetenes    
URI:https://www.calldetenes.cat/lactualitat/agenda/taller-informatica-basica-per-a-la-recerca-de-feina.html
CLASS:PUBLIC
END:VEVENT
END:VCALENDAR
