BEGIN:VCALENDAR
VERSION:2.0
CALSCALE:GREGORIAN
PRODID:-//Diputació de Barcelona//DibaCMS//EN
BEGIN:VEVENT
UID:2867
DTSTAMP:20260422T105127
DTSTART:20160619T000000
DTEND:20160619T000000
SUMMARY:Mercat de segona mà
LOCATION:
METHOD:PUBLISH
X-WR-CALNAME:calldetenes@calldetenes.cat
X-WR-TIMEZONE:Europe/Madrid
DESCRIPTION: Mercat de segona mà  Diumenge 19 de juny de 9h a 14h  Plaça de la Independència de Catalunya  Més informació i inscripcions: www.mercatrasto.com     
URI:https://www.calldetenes.cat/lactualitat/agenda/2867-mercat-de-segona-ma.html
CLASS:PUBLIC
END:VEVENT
END:VCALENDAR
