BEGIN:VCALENDAR
VERSION:2.0
CALSCALE:GREGORIAN
PRODID:-//Diputació de Barcelona//DibaCMS//EN
BEGIN:VEVENT
UID:2866
DTSTAMP:20260422T113125
DTSTART:20160619T000000
DTEND:20160619T000000
SUMMARY:Copa Osona de Trial
LOCATION:
METHOD:PUBLISH
X-WR-CALNAME:calldetenes@calldetenes.cat
X-WR-TIMEZONE:Europe/Madrid
DESCRIPTION: Copa Osona de Trial  Diumenge 19 de juny al matí  A davant de la SI Les Margues  Més informació: http://www.trialsport.es/informacio_competicio_trial/copa-osona-trial/156/ca#.VzBW94SyOko   
URI:https://www.calldetenes.cat/lactualitat/agenda/copa-osona-de-trial.html
CLASS:PUBLIC
END:VEVENT
END:VCALENDAR
