BEGIN:VCALENDAR
VERSION:2.0
CALSCALE:GREGORIAN
PRODID:-//Diputació de Barcelona//DibaCMS//EN
BEGIN:VEVENT
UID:2865
DTSTAMP:20260422T143348
DTSTART:20160611T000000
DTEND:20160611T000000
SUMMARY:Intercanvi de cromos
LOCATION:
METHOD:PUBLISH
X-WR-CALNAME:calldetenes@calldetenes.cat
X-WR-TIMEZONE:Europe/Madrid
DESCRIPTION: Intercanvi de cromos  Dissabte 11 de juny a les 11.30h  A la plaça Onze de Setembre
URI:https://www.calldetenes.cat/lactualitat/agenda/intercanvi-de-cromos.html
CLASS:PUBLIC
END:VEVENT
END:VCALENDAR
