BEGIN:VCALENDAR
VERSION:2.0
CALSCALE:GREGORIAN
PRODID:-//Diputació de Barcelona//DibaCMS//EN
BEGIN:VEVENT
UID:2864
DTSTAMP:20260422T160706
DTSTART:20160529T000000
DTEND:20160529T000000
SUMMARY:Inauguració de les piscines municipals de Calldetenes
LOCATION:
METHOD:PUBLISH
X-WR-CALNAME:calldetenes@calldetenes.cat
X-WR-TIMEZONE:Europe/Madrid
DESCRIPTION:   Diumenge 29 de maig  Amb entrada gratuïta pels empadronats al municipi durant tot el dia (cal presentar el DNI) i piscolabis al migdia.   Obertura de les piscines: divendres 27 de maig  Abonaments a la venda a partir del 20 de maig, només a les oficines de l’Ajuntament.     
URI:https://www.calldetenes.cat/lactualitat/agenda/inauguracio-de-les-piscines-municipals-de-calldetenes.html
CLASS:PUBLIC
END:VEVENT
END:VCALENDAR
