BEGIN:VCALENDAR
VERSION:2.0
CALSCALE:GREGORIAN
PRODID:-//Diputació de Barcelona//DibaCMS//EN
BEGIN:VEVENT
UID:2863
DTSTAMP:20260422T185657
DTSTART:20160526T000000
DTEND:20160606T000000
SUMMARY:"Controles?" Exposició itinerant
LOCATION:
METHOD:PUBLISH
X-WR-CALNAME:calldetenes@calldetenes.cat
X-WR-TIMEZONE:Europe/Madrid
DESCRIPTION:    Del 26 de maig al 6 de juny al vestíbul de l’Ajuntament     Horaris  Dilluns, dimecres i divendres de 9,30 a 14,30 h  Dimarts i dijous d’11 a 14,30 i de 15,30 a 19 h  Divendres 3 de juny de 15,30 a 19h     L'exposició sobre prevenció de drogodependències Controles? arriba a Calldetenes aquest mes de maig. Està dirigida a alumnes de 12-16 anys, a persones que treballen amb nois i noies, a entitats del poble, mestres, professionals de tots els àmbits, famílies...   És un recurs de la Diputació de Barcelona.  
URI:https://www.calldetenes.cat/lactualitat/agenda/controles-exposicio-itinerant.html
CLASS:PUBLIC
END:VEVENT
END:VCALENDAR
