BEGIN:VCALENDAR
VERSION:2.0
CALSCALE:GREGORIAN
PRODID:-//Diputació de Barcelona//DibaCMS//EN
BEGIN:VEVENT
UID:2862
DTSTAMP:20260422T221141
DTSTART:20160522T000000
DTEND:20160522T000000
SUMMARY:51è Homenatge a la Gent Gran
LOCATION:
METHOD:PUBLISH
X-WR-CALNAME:calldetenes@calldetenes.cat
X-WR-TIMEZONE:Europe/Madrid
DESCRIPTION:   Diumenge 22 de maig a les 11.30h  Missa cantada i presentació d’ofrenes  Actuació sorpresa a l’Auditori Teatre Calldetenes  Dinar de germanor  
URI:https://www.calldetenes.cat/lactualitat/agenda/51e-homenatge-a-la-gent-gran.html
CLASS:PUBLIC
END:VEVENT
END:VCALENDAR
