BEGIN:VCALENDAR
VERSION:2.0
CALSCALE:GREGORIAN
PRODID:-//Diputació de Barcelona//DibaCMS//EN
BEGIN:VEVENT
UID:2861
DTSTAMP:20260423T044059
DTSTART:20160509T000000
DTEND:20160520T000000
SUMMARY:Inscripcions a les estades d’idiomes
LOCATION:
METHOD:PUBLISH
X-WR-CALNAME:calldetenes@calldetenes.cat
X-WR-TIMEZONE:Europe/Madrid
DESCRIPTION:   Del 9 al 20 de maig als punts d’informació juvenil i ajuntament d’Osona  Edats de 7 a 17 anys  Més informació a http://www.osonajove.cat/programa/estades-idiomes-2016 i a la documentació adjunta    
URI:https://www.calldetenes.cat/lactualitat/agenda/inscripcions-a-les-estades-didiomes.html
CLASS:PUBLIC
END:VEVENT
END:VCALENDAR
