BEGIN:VCALENDAR
VERSION:2.0
CALSCALE:GREGORIAN
PRODID:-//Diputació de Barcelona//DibaCMS//EN
BEGIN:VEVENT
UID:2860
DTSTAMP:20260422T160914
DTSTART:20160509T000000
DTEND:20160521T000000
SUMMARY:Inscripcions al projecte de voluntariat ambiental 2016
LOCATION:
METHOD:PUBLISH
X-WR-CALNAME:calldetenes@calldetenes.cat
X-WR-TIMEZONE:Europe/Madrid
DESCRIPTION: “Recuperem la bassa del Blanqueig”    Inscripcions del 9 al 20 de maig al Punt Jove  Adreçat a nois i noies de 13 a 17 anys  Places limitades    
URI:https://www.calldetenes.cat/lactualitat/agenda/inscripcions-al-projecte-de-voluntariat-ambiental-2016.html
CLASS:PUBLIC
END:VEVENT
END:VCALENDAR
