BEGIN:VCALENDAR
VERSION:2.0
CALSCALE:GREGORIAN
PRODID:-//Diputació de Barcelona//DibaCMS//EN
BEGIN:VEVENT
UID:2859
DTSTAMP:20260422T131016
DTSTART:20160710T000000
DTEND:20160712T000000
SUMMARY:Exposició "El vehicle elèctric"
LOCATION:
METHOD:PUBLISH
X-WR-CALNAME:calldetenes@calldetenes.cat
X-WR-TIMEZONE:Europe/Madrid
DESCRIPTION: Exposició “El vehicle elèctric”  I mostra d’automòbils elèctrics  Del 10 al 12 de juliol.  A la plaça Onze de Setembre i al vestíbul de l’ajuntament de Calldetenes        
URI:https://www.calldetenes.cat/lactualitat/agenda/exposicio-el-vehicle-electric.html
CLASS:PUBLIC
END:VEVENT
END:VCALENDAR
