BEGIN:VCALENDAR
VERSION:2.0
CALSCALE:GREGORIAN
PRODID:-//Diputació de Barcelona//DibaCMS//EN
BEGIN:VEVENT
UID:2858
DTSTAMP:20260422T125818
DTSTART:20160704T000000
DTEND:20160729T000000
SUMMARY:Torneig F-7 Calldetenes
LOCATION:
METHOD:PUBLISH
X-WR-CALNAME:calldetenes@calldetenes.cat
X-WR-TIMEZONE:Europe/Madrid
DESCRIPTION: Inscripcions fins el 20 de juny  Sènior masculí i femení; veterans  Torneig: mes de juliol  Més informació al cartell  
URI:https://www.calldetenes.cat/lactualitat/agenda/torneig-f-7-calldetenes.html
CLASS:PUBLIC
END:VEVENT
END:VCALENDAR
