BEGIN:VCALENDAR
VERSION:2.0
CALSCALE:GREGORIAN
PRODID:-//Diputació de Barcelona//DibaCMS//EN
BEGIN:VEVENT
UID:2857
DTSTAMP:20260422T174759
DTSTART:20160701T000000
DTEND:20160722T000000
SUMMARY:Campus d'estiu de futbol
LOCATION:
METHOD:PUBLISH
X-WR-CALNAME:calldetenes@calldetenes.cat
X-WR-TIMEZONE:Europe/Madrid
DESCRIPTION:   Per a porters/es i jugadors/es de 4 a 18 anys  3 primeres setmanes de juliol (del 4 al 22)  De 9h a 13h  Organitza: Club Futbol Athletic Riudeperes  Més informació al cartell   
URI:https://www.calldetenes.cat/lactualitat/agenda/campus-destiu-de-futbol.html
CLASS:PUBLIC
END:VEVENT
END:VCALENDAR
