BEGIN:VCALENDAR
VERSION:2.0
CALSCALE:GREGORIAN
PRODID:-//Diputació de Barcelona//DibaCMS//EN
BEGIN:VEVENT
UID:2856
DTSTAMP:20260422T185808
DTSTART:20160515T000000
DTEND:20160515T000000
SUMMARY:Mercat de segona mà
LOCATION:
METHOD:PUBLISH
X-WR-CALNAME:calldetenes@calldetenes.cat
X-WR-TIMEZONE:Europe/Madrid
DESCRIPTION:   Diumenge 15 de maig de 9h a 14h  Plaça de la Independència de Catalunya  Organitza: Mercatrasto  Inscripcions i més informació a www.mercatrasto.com  
URI:https://www.calldetenes.cat/lactualitat/agenda/mercat-de-segona-ma.html
CLASS:PUBLIC
END:VEVENT
END:VCALENDAR
