BEGIN:VCALENDAR
VERSION:2.0
CALSCALE:GREGORIAN
PRODID:-//Diputació de Barcelona//DibaCMS//EN
BEGIN:VEVENT
UID:2855
DTSTAMP:20260422T173138
DTSTART:20160430T000000
DTEND:20160430T000000
SUMMARY:2a Sortida amb microcotxes clàssics al pantà de Sau i Calldetenes
LOCATION:
METHOD:PUBLISH
X-WR-CALNAME:calldetenes@calldetenes.cat
X-WR-TIMEZONE:Europe/Madrid
DESCRIPTION:   Dissabte 30 d’abril  De 9h a 10h i de 14h a 16h estaran exposats davant el Restaurant el Roser  Organitza: Clàssic Motor Club del Bages  Més informació: http://www.classicmotorclub.org/  Podeu veure el programa detallat al document pdf adjunt.  
URI:https://www.calldetenes.cat/lactualitat/agenda/2a-sortida-amb-microcotxes-classics-al-panta-de-sau-i-calldetenes.html
CLASS:PUBLIC
END:VEVENT
END:VCALENDAR
