BEGIN:VCALENDAR
VERSION:2.0
CALSCALE:GREGORIAN
PRODID:-//Diputació de Barcelona//DibaCMS//EN
BEGIN:VEVENT
UID:2854
DTSTAMP:20260422T201830
DTSTART:20160428T000000
DTEND:20160428T000000
SUMMARY:Jornada de portes obertes a l'Escola Bressol l'Esquitx
LOCATION:
METHOD:PUBLISH
X-WR-CALNAME:calldetenes@calldetenes.cat
X-WR-TIMEZONE:Europe/Madrid
DESCRIPTION:   Dijous 28 d’abril de 17h a 19h  A l’escola bressol municipal l’Esquitx, de Calldetenes, podreu gaudir de la jornada de portes obertes el proper dijous dia 28 d’abril de 2016. L’escola estarà oberta a tothom des de les 17.00h fins les 19.00h, espai de temps on les educadores us guiaran i informaran de tots els dubtes que pugueu tenir.  Més info: http://lesquitxcalldetenes.blogspot.com.es/2016/02/jornada-de-portes-obertes.html 
URI:https://www.calldetenes.cat/lactualitat/agenda/jornada-de-portes-obertes-a-lescola-bressol-lesquitx.html
CLASS:PUBLIC
END:VEVENT
END:VCALENDAR
