BEGIN:VCALENDAR
VERSION:2.0
CALSCALE:GREGORIAN
PRODID:-//Diputació de Barcelona//DibaCMS//EN
BEGIN:VEVENT
UID:2852
DTSTAMP:20260422T202555
DTSTART:20160424T000000
DTEND:20160424T000000
SUMMARY:Festa dels Tonis 2016
LOCATION:
METHOD:PUBLISH
X-WR-CALNAME:calldetenes@calldetenes.cat
X-WR-TIMEZONE:Europe/Madrid
DESCRIPTION: Festa dels Tonis de Calldetenes  Diumenge 24 d’abril al matí  9 h: Concentració de carruatges i cavalls. Esmorzar (preu simbòlic: 1€) (davant del nou institut)  10.30 h: Exhibició de gossos d’agility i passejos en poni (plaça Onze de Setembre, durant tot el matí)  11.30 h: Sortida del passant i recorregut pels carrers del poble. Benedicció a la sortida de missa (plaça Vella) i entrega d’obsequis (davant de l’ajuntament)     
URI:https://www.calldetenes.cat/lactualitat/agenda/festa-dels-tonis-2016.html
CLASS:PUBLIC
END:VEVENT
END:VCALENDAR
