BEGIN:VCALENDAR
VERSION:2.0
CALSCALE:GREGORIAN
PRODID:-//Diputació de Barcelona//DibaCMS//EN
BEGIN:VEVENT
UID:2851
DTSTAMP:20260423T205903
DTSTART:20160415T000000
DTEND:20160417T000000
SUMMARY:III Jornades de l'Aeròdrom de Vilatorta
LOCATION:
METHOD:PUBLISH
X-WR-CALNAME:calldetenes@calldetenes.cat
X-WR-TIMEZONE:Europe/Madrid
DESCRIPTION: III Jornades de l’Aeròdrom de Vilatorta  Del 15 al 17 d’abril  Divendres 15 d’abril a les 20.30h a Santa Eugènia de Berga: conferència amb Salomó Marquès “De ciutadans a súbdits: l’escola durant la República i el Franquisme”  Dissabte 16 d’abril a les 19h a Calldetenes: conferència amb Alfons Jiménez “Franquisme. Una mirada crítica sobre el relat d’Espanya entre 1939 i 1948”  Diumenge 17 d’abril a les 19h a Sant Julià de Vilatorta: conferència teatralitzada “Els del 42. 7 testimonis del final de la guerra civil a Osona”
URI:https://www.calldetenes.cat/lactualitat/agenda/iii-jornades-de-laerodrom-de-vilatorta.html
CLASS:PUBLIC
END:VEVENT
END:VCALENDAR
