BEGIN:VCALENDAR
VERSION:2.0
CALSCALE:GREGORIAN
PRODID:-//Diputació de Barcelona//DibaCMS//EN
BEGIN:VEVENT
UID:2850
DTSTAMP:20260422T201857
DTSTART:20160410T000000
DTEND:20160410T000000
SUMMARY:Caminada pro-viatge fi de curs alumnes de 4rt del SI Les Margues de Calldetenes
LOCATION:
METHOD:PUBLISH
X-WR-CALNAME:calldetenes@calldetenes.cat
X-WR-TIMEZONE:Europe/Madrid
DESCRIPTION: 
URI:https://www.calldetenes.cat/lactualitat/agenda/caminada-pro-viatge-fi-de-curs-alumnes-de-4rt-del-si-les-margues-de-calldetenes.html
CLASS:PUBLIC
END:VEVENT
END:VCALENDAR
