BEGIN:VCALENDAR
VERSION:2.0
CALSCALE:GREGORIAN
PRODID:-//Diputació de Barcelona//DibaCMS//EN
BEGIN:VEVENT
UID:2849
DTSTAMP:20260422T160637
DTSTART:20160417T000000
DTEND:20160417T000000
SUMMARY:23a BTT Pa i Trago
LOCATION:
METHOD:PUBLISH
X-WR-CALNAME:calldetenes@calldetenes.cat
X-WR-TIMEZONE:Europe/Madrid
DESCRIPTION: 
URI:https://www.calldetenes.cat/lactualitat/agenda/23a-btt-pa-i-trago.html
CLASS:PUBLIC
END:VEVENT
END:VCALENDAR
