BEGIN:VCALENDAR
VERSION:2.0
CALSCALE:GREGORIAN
PRODID:-//Diputació de Barcelona//DibaCMS//EN
BEGIN:VEVENT
UID:2848
DTSTAMP:20260422T202658
DTSTART:20160416T000000
DTEND:20160416T000000
SUMMARY:Premi BBVA de Teatre LES ROIS FAINÉANTS Cia. Cocotte
LOCATION:
METHOD:PUBLISH
X-WR-CALNAME:calldetenes@calldetenes.cat
X-WR-TIMEZONE:Europe/Madrid
DESCRIPTION: 
URI:https://www.calldetenes.cat/lactualitat/agenda/premi-bbva-de-teatre-les-rois-faineants-cia-cocotte.html
CLASS:PUBLIC
END:VEVENT
END:VCALENDAR
