BEGIN:VCALENDAR
VERSION:2.0
CALSCALE:GREGORIAN
PRODID:-//Diputació de Barcelona//DibaCMS//EN
BEGIN:VEVENT
UID:2847
DTSTAMP:20260422T185627
DTSTART:20160601T000000
DTEND:20160630T000000
SUMMARY:Tallers Alquimia Primavera 2016
LOCATION:
METHOD:PUBLISH
X-WR-CALNAME:calldetenes@calldetenes.cat
X-WR-TIMEZONE:Europe/Madrid
DESCRIPTION: 
URI:https://www.calldetenes.cat/lactualitat/agenda/tallers-alquimia-primavera-2016.html
CLASS:PUBLIC
END:VEVENT
END:VCALENDAR
