BEGIN:VCALENDAR
VERSION:2.0
CALSCALE:GREGORIAN
PRODID:-//Diputació de Barcelona//DibaCMS//EN
BEGIN:VEVENT
UID:2846
DTSTAMP:20260422T220413
DTSTART:20160327T000000
DTEND:20160327T000000
SUMMARY:Concurs Ocellaire de Calldetenes
LOCATION:
METHOD:PUBLISH
X-WR-CALNAME:calldetenes@calldetenes.cat
X-WR-TIMEZONE:Europe/Madrid
DESCRIPTION: Concurs Ocellaire de Calldetenes  Diumenge 27 de març  A partir de les 9 del matí a la carpa
URI:https://www.calldetenes.cat/lactualitat/agenda/concurs-ocellaire-de-calldetenes.html
CLASS:PUBLIC
END:VEVENT
END:VCALENDAR
