BEGIN:VCALENDAR
VERSION:2.0
CALSCALE:GREGORIAN
PRODID:-//Diputació de Barcelona//DibaCMS//EN
BEGIN:VEVENT
UID:2845
DTSTAMP:20260422T160802
DTSTART:20160424T000000
DTEND:20160424T000000
SUMMARY:II Concurs social de salt dels Tonis de Calldetenes - ANUL·LAT
LOCATION:
METHOD:PUBLISH
X-WR-CALNAME:calldetenes@calldetenes.cat
X-WR-TIMEZONE:Europe/Madrid
DESCRIPTION: II Concurs social de salt dels Tonis de Calldetenes   Diumenge 24 d’abril a la tarda  Recorreguts: creuades, 40cm, 60cm, 80cm, 100cm i 120 cm     
URI:https://www.calldetenes.cat/lactualitat/agenda/ii-concurs-social-de-salt-dels-tonis-de-calldetenes-anullat.html
CLASS:PUBLIC
END:VEVENT
END:VCALENDAR
