BEGIN:VCALENDAR
VERSION:2.0
CALSCALE:GREGORIAN
PRODID:-//Diputació de Barcelona//DibaCMS//EN
BEGIN:VEVENT
UID:2844
DTSTAMP:20260422T215222
DTSTART:20160307T000000
DTEND:20160307T000000
SUMMARY:8 de març: Dia Internacional de la Dona
LOCATION:
METHOD:PUBLISH
X-WR-CALNAME:calldetenes@calldetenes.cat
X-WR-TIMEZONE:Europe/Madrid
DESCRIPTION:    El 8 de març s'ha convertit en un símbol per a les dones dels cinc continents. Data que van acabar de corroborar les Nacions Unides, el 1977, en declarar el 8 de març com a Dia Internacional de la Dona.        La celebració no es basa en un únic fet ni tampoc ha tingut sempre el mateix sentit. La història canvia, és dinàmica, i el sentit dels símbols i significats també. La reivindicació de millors condicions de treball i de vida, i de drets polítics i manifestacions en favor de la pau, són alguns dels temes que es troben en l'origen de la celebració del dia 8 de març com a Dia Internacional de la Dona.     Text extret del web de l’Institut Català de les Dones     Si voleu conèixer més detalls de l’origen del Dia Internacional de les Dones, podeu fer-ho en el següent enllaç:   http://dones.gencat.cat/ca/temes/visibilitzacio_dones/associacionisme_participacio/dia_internacional_dones/origen_dia_internacional_dones      Com cada any, el pròxim 8 de març es commemora el Dia Internacional de la Dona. Per aquest motiu, l'Associació Catalana de Municipis, ha elaborat un manifest, juntament amb les diputacions de Barcelona, Tarragona, Lleida i Girona, i la Federació de Municipis de Catalunya. El manifest vol promoure l’equitat de gènere i avançar cap a una societat igualitària entre homes i dones.      Manifest 8 de març, Dia Internacional de les Dones: http://fmc.cat/documents/15788/doc/Manifest%202016%20FMC-ACM.pdf
URI:https://www.calldetenes.cat/lactualitat/agenda/2844-8-de-marc-dia-internacional-de-la-dona.html
CLASS:PUBLIC
END:VEVENT
END:VCALENDAR
