BEGIN:VCALENDAR
VERSION:2.0
CALSCALE:GREGORIAN
PRODID:-//Diputació de Barcelona//DibaCMS//EN
BEGIN:VEVENT
UID:2843
DTSTAMP:20260422T204503
DTSTART:20160326T000000
DTEND:20160328T000000
SUMMARY:Cantada de Caramelles 2016
LOCATION:
METHOD:PUBLISH
X-WR-CALNAME:calldetenes@calldetenes.cat
X-WR-TIMEZONE:Europe/Madrid
DESCRIPTION: 
URI:https://www.calldetenes.cat/lactualitat/agenda/cantada-de-caramelles-2016.html
CLASS:PUBLIC
END:VEVENT
END:VCALENDAR
