BEGIN:VCALENDAR
VERSION:2.0
CALSCALE:GREGORIAN
PRODID:-//Diputació de Barcelona//DibaCMS//EN
BEGIN:VEVENT
UID:2842
DTSTAMP:20260422T185733
DTSTART:20160401T000000
DTEND:20160401T000000
SUMMARY:Presentació del llibre i xerrada amb Amadeu Casellas: “Un reflejo de la sociedad”
LOCATION:
METHOD:PUBLISH
X-WR-CALNAME:calldetenes@calldetenes.cat
X-WR-TIMEZONE:Europe/Madrid
DESCRIPTION:   Divendres 1 d’abril a l’Auditori Teatre Calldetenes  Organitza: JAC i La Pera  
URI:https://www.calldetenes.cat/lactualitat/agenda/presentacio-del-llibre-i-xerrada-amb-amadeu-casellas-un-reflejo-de-la-sociedad.html
CLASS:PUBLIC
END:VEVENT
END:VCALENDAR
