BEGIN:VCALENDAR
VERSION:2.0
CALSCALE:GREGORIAN
PRODID:-//Diputació de Barcelona//DibaCMS//EN
BEGIN:VEVENT
UID:2841
DTSTAMP:20260422T174901
DTSTART:20160417T000000
DTEND:20160417T000000
SUMMARY:Mercatrasto. Mercat de segona mà
LOCATION:
METHOD:PUBLISH
X-WR-CALNAME:calldetenes@calldetenes.cat
X-WR-TIMEZONE:Europe/Madrid
DESCRIPTION:   Diumenge 17 d’abril de 9h a 14h  A la plaça de la independència de Catalunya  
URI:https://www.calldetenes.cat/lactualitat/agenda/2841-mercatrasto-mercat-de-segona-ma.html
CLASS:PUBLIC
END:VEVENT
END:VCALENDAR
