BEGIN:VCALENDAR
VERSION:2.0
CALSCALE:GREGORIAN
PRODID:-//Diputació de Barcelona//DibaCMS//EN
BEGIN:VEVENT
UID:2839
DTSTAMP:20260422T143001
DTSTART:20160508T000000
DTEND:20160508T000000
SUMMARY:III CICLE DE MÚSIQUES A SANTA LLÚCIA
LOCATION:
METHOD:PUBLISH
X-WR-CALNAME:calldetenes@calldetenes.cat
X-WR-TIMEZONE:Europe/Madrid
DESCRIPTION: Diumenge 8 de maig a les 18h a l’Auditori Teatre Calldetenes     
URI:https://www.calldetenes.cat/lactualitat/agenda/iii-cicle-de-musiques-a-santa-llucia.html
CLASS:PUBLIC
END:VEVENT
END:VCALENDAR
