BEGIN:VCALENDAR
VERSION:2.0
CALSCALE:GREGORIAN
PRODID:-//Diputació de Barcelona//DibaCMS//EN
BEGIN:VEVENT
UID:2838
DTSTAMP:20260422T202946
DTSTART:20160309T000000
DTEND:20160309T000000
SUMMARY:Espais de debat educatiu
LOCATION:
METHOD:PUBLISH
X-WR-CALNAME:calldetenes@calldetenes.cat
X-WR-TIMEZONE:Europe/Madrid
DESCRIPTION: 
URI:https://www.calldetenes.cat/lactualitat/agenda/espais-de-debat-educatiu.html
CLASS:PUBLIC
END:VEVENT
END:VCALENDAR
