BEGIN:VCALENDAR
VERSION:2.0
CALSCALE:GREGORIAN
PRODID:-//Diputació de Barcelona//DibaCMS//EN
BEGIN:VEVENT
UID:2837
DTSTAMP:20260422T115240
DTSTART:20160529T000000
DTEND:20160529T000000
SUMMARY:REAGGE PER XICS amb The Penguins Band
LOCATION:
METHOD:PUBLISH
X-WR-CALNAME:calldetenes@calldetenes.cat
X-WR-TIMEZONE:Europe/Madrid
DESCRIPTION: REAGGE PER XICS amb The Penguins Band  Diumenge 29 de maig a les 18h  A partir de 5€  Entrades anticipades i més informació a www.teatrecalldetenes.cat     
URI:https://www.calldetenes.cat/lactualitat/agenda/reagge-per-xics-amb-the-penguins-band.html
CLASS:PUBLIC
END:VEVENT
END:VCALENDAR
