BEGIN:VCALENDAR
VERSION:2.0
CALSCALE:GREGORIAN
PRODID:-//Diputació de Barcelona//DibaCMS//EN
BEGIN:VEVENT
UID:2836
DTSTAMP:20260422T202003
DTSTART:20160507T000000
DTEND:20160507T000000
SUMMARY:MOLIÊRE LA BALLA
LOCATION:
METHOD:PUBLISH
X-WR-CALNAME:calldetenes@calldetenes.cat
X-WR-TIMEZONE:Europe/Madrid
DESCRIPTION: MOLIÊRE LA BALLA  Dissabte 7 de maig a les 21.30h  A partir de 15€  Entrades anticipades i més informació a www.teatrecalldetenes.cat      
URI:https://www.calldetenes.cat/lactualitat/agenda/moliere-la-balla.html
CLASS:PUBLIC
END:VEVENT
END:VCALENDAR
