BEGIN:VCALENDAR
VERSION:2.0
CALSCALE:GREGORIAN
PRODID:-//Diputació de Barcelona//DibaCMS//EN
BEGIN:VEVENT
UID:2835
DTSTAMP:20260422T160834
DTSTART:20160430T000000
DTEND:20160430T000000
SUMMARY:QUEDA INAUGURADO ESTE PANTANO! amb NÀIADES Cor de Noies i CORCIA Teatre
LOCATION:
METHOD:PUBLISH
X-WR-CALNAME:calldetenes@calldetenes.cat
X-WR-TIMEZONE:Europe/Madrid
DESCRIPTION:   Dissabte 30 d’abril a les 21.30h  A partir de 12€  Entrades anticipades i més informació a www.teatrecalldetenes.cat     
URI:https://www.calldetenes.cat/lactualitat/agenda/queda-inaugurado-este-pantano-amb-naiades-cor-de-noies-i-corcia-teatre.html
CLASS:PUBLIC
END:VEVENT
END:VCALENDAR
