BEGIN:VCALENDAR
VERSION:2.0
CALSCALE:GREGORIAN
PRODID:-//Diputació de Barcelona//DibaCMS//EN
BEGIN:VEVENT
UID:2834
DTSTAMP:20260422T191756
DTSTART:20160424T000000
DTEND:20160424T000000
SUMMARY:CONCERT DE PRIMAVERA
LOCATION:
METHOD:PUBLISH
X-WR-CALNAME:calldetenes@calldetenes.cat
X-WR-TIMEZONE:Europe/Madrid
DESCRIPTION:   Diumenge 24 d’abril a les 18€  A partir de 5€  Entrades anticipades i més informació a www.teatrecalldetenes.cat   
URI:https://www.calldetenes.cat/lactualitat/agenda/concert-de-primavera.html
CLASS:PUBLIC
END:VEVENT
END:VCALENDAR
