BEGIN:VCALENDAR
VERSION:2.0
CALSCALE:GREGORIAN
PRODID:-//Diputació de Barcelona//DibaCMS//EN
BEGIN:VEVENT
UID:2833
DTSTAMP:20260423T014337
DTSTART:20160408T000000
DTEND:20160408T000000
SUMMARY:iTIME amb en Peyu
LOCATION:
METHOD:PUBLISH
X-WR-CALNAME:calldetenes@calldetenes.cat
X-WR-TIMEZONE:Europe/Madrid
DESCRIPTION:   Divendres 8 d’abril a les 21.30h  A partir de 10€  Entrades anticipades i més informació a www.teatrecalldetenes.cat     
URI:https://www.calldetenes.cat/lactualitat/agenda/itime-amb-en-peyu.html
CLASS:PUBLIC
END:VEVENT
END:VCALENDAR
